BEGIN:VCALENDAR
VERSION:2.0
PRODID:-//ChamberMaster//Event Calendar 2.0//EN
METHOD:PUBLISH
X-PUBLISHED-TTL:P3D
REFRESH-INTERVAL:P3D
CALSCALE:GREGORIAN
BEGIN:VEVENT
DTSTART:20180814T180000Z
DTEND:20180814T210000Z
X-MICROSOFT-CDO-ALLDAYEVENT:FALSE
SUMMARY:Facebook Micro Credential Workshop - Muskegon
DESCRIPTION:Throughout these workshops\, students will learn the basics of social media marketing using Facebook and Instagram and have the opportunity to earn four micro-credentials (digital badges) that demonstrate the skills they have learned. Workshops are designed to be short\, hands-on\, and practical. Over three weeks\, students will develop a Facebook Page and Instagram Account for a local community organization or business of their choice\, and practice those skills using the page to create awareness\, drive traffic\, and/or attract customers\, and create ad campaigns in support of that page.
X-ALT-DESC;FMTTYPE=text/html:Throughout these workshops\, students will learn the basics of social media marketing using Facebook and Instagram and have the opportunity to earn four micro-credentials (digital badges) that demonstrate the skills they have learned. Workshops are designed to be short\, hands-on\, and practical. Over three weeks\, students will develop a Facebook Page and Instagram Account for a local community organization or business of their choice\, and practice those skills using the page to create awareness\, drive traffic\, and/or attract customers\, and create ad campaigns in support of that page.
LOCATION:
UID:e.2018.907
SEQUENCE:3
DTSTAMP:20260422T144800Z
URL:https://members.westmihcc.org/events/details/facebook-micro-credential-workshop-muskegon-907
END:VEVENT

END:VCALENDAR
