BEGIN:VCALENDAR
VERSION:2.0
PRODID:-//ChamberMaster//Event Calendar 2.0//EN
METHOD:PUBLISH
X-PUBLISHED-TTL:P3D
REFRESH-INTERVAL:P3D
CALSCALE:GREGORIAN
BEGIN:VEVENT
DTSTART:20190906T210000Z
DTEND:20190907T190000Z
X-MICROSOFT-CDO-ALLDAYEVENT:FALSE
SUMMARY:Fall Bridal Show
DESCRIPTION:Fall Bridal Show of West Michigan September 6-7\, 2019 Hours: Fri. 5pm-9pm and Sat. 11am-3pm DeVos Place\, Grand Rapids\, MI www.KohlerExpo.com Brides\, Grooms\, Moms and Friends come celebrate your special day! Plan your wedding all under one roof.   Fashion Shows: Fri. 7pm & Sat. 1pm   Wedding Gowns & Bridal Party Dresses   Men's Tuxedos & Suits   Flowers & Decorations   Bridal Gift Registry   Photography & Videography   Photo Booth   Honeymoon & Travel   Health & Beauty   Tent & Party Rentals   Bachelor & Bachelorette Party Ideas   Food Sampling   from various venues   Complimentary Grand Rapids Bride Magazine   Bridal Lounge   Enjoy a "Sweet on You" Strawberry Lemonade or "Say I Do" Sangria   Catering & Bar Services   Reception Facilities and Ceremony Venues   from Elegant Wedding Venues to Rustic Barns   DJ's & Music   Wedding Rings & Jewelry   Hotel & Lodging   Limousine & Party Bus   Cakes & Desserts   Cookware & Culinary   Door Prizes   over $5000 in prizes! Show discounts from local wedding professionals offered to Brides and Grooms\, including the chance to win exciting door prizes for your wedding\, must be present to win! Meet leading bridal exhibitors face-to-face to help make your wedding day special. View current and trendy Bridal Gowns at our runway Fashion Shows: Friday at 7 pm and Saturday at 1 pm. Bridal Show is open to the General Public. Admission at the door or online at www.KohlerExpo.com. For additional information\, please visit www.KohlerExpo.com. Kohler Expos\, Inc. produces: Fall Bridal Show of West Michigan   September 6-7\, 2019   DeVos Place\, Grand Rapids\, Michigan Kids and Family Expo   January 25\, 2020   DeVos Place\, Grand Rapids\, Michigan Winter Bridal Show of West Michigan   January 25\, 2020  DeVos Place\, Grand Rapids\, Michigan Mid-Michigan Women's Expo   February 7-9\, 2020 - Lansing Center\, Lansing\, Michigan West Michigan Women's Expo   March 13-15\, 2020 - DeVos Place\, Grand Rapids\, Michigan
X-ALT-DESC;FMTTYPE=text/html:Fall Bridal Show of West Michigan September 6-7\, 2019 Hours: Fri. 5pm-9pm and Sat. 11am-3pm DeVos Place\, Grand Rapids\, MI www.KohlerExpo.com Brides\, Grooms\, Moms and Friends&hellip\;come celebrate your special day! Plan your wedding all under one roof. &bull\; Fashion Shows: Fri. 7pm &amp\; Sat. 1pm &bull\; Wedding Gowns &amp\; Bridal Party Dresses &bull\; Men&rsquo\;s Tuxedos &amp\; Suits &bull\; Flowers &amp\; Decorations &bull\; Bridal Gift Registry &bull\; Photography &amp\; Videography &bull\; Photo Booth &bull\; Honeymoon &amp\; Travel &bull\; Health &amp\; Beauty &bull\; Tent &amp\; Party Rentals &bull\; Bachelor &amp\; Bachelorette Party Ideas &bull\; Food Sampling &ndash\; from various venues &bull\; Complimentary Grand Rapids Bride Magazine &bull\; Bridal Lounge &ndash\; Enjoy a &ldquo\;Sweet on You&rdquo\; Strawberry Lemonade or &ldquo\;Say I Do&rdquo\; Sangria &bull\; Catering &amp\; Bar Services &bull\; Reception Facilities and Ceremony Venues &ndash\; from Elegant Wedding Venues to Rustic Barns &bull\; DJ&rsquo\;s &amp\; Music &bull\; Wedding Rings &amp\; Jewelry &bull\; Hotel &amp\; Lodging &bull\; Limousine &amp\; Party Bus &bull\; Cakes &amp\; Desserts &bull\; Cookware &amp\; Culinary &bull\; Door Prizes &ndash\; over $5000 in prizes! Show discounts from local wedding professionals offered to Brides and Grooms\, including the chance to win exciting door prizes for your wedding\, must be present to win! Meet leading bridal exhibitors face-to-face to help make your wedding day special. View current and trendy Bridal Gowns at our runway Fashion Shows: Friday at 7 pm and Saturday at 1 pm. Bridal Show is open to the General Public. Admission at the door or online at www.KohlerExpo.com. For additional information\, please visit www.KohlerExpo.com. Kohler Expos\, Inc. produces: Fall Bridal Show of West Michigan &ndash\; September 6-7\, 2019 &ndash\; DeVos Place\, Grand Rapids\, Michigan Kids and Family Expo &ndash\; January 25\, 2020 &ndash\; DeVos Place\, Grand Rapids\, Michigan Winter Bridal Show of West Michigan &ndash\; January 25\, 2020&ndash\; DeVos Place\, Grand Rapids\, Michigan Mid-Michigan Women&rsquo\;s Expo &ndash\; February 7-9\, 2020 - Lansing Center\, Lansing\, Michigan West Michigan Women&rsquo\;s Expo &ndash\; March 13-15\, 2020 - DeVos Place\, Grand Rapids\, Michigan
LOCATION:DeVos Place - Grand Rapids
UID:e.2018.1217
SEQUENCE:3
DTSTAMP:20260419T212104Z
URL:https://members.westmihcc.org/events/details/fall-bridal-show-1217
END:VEVENT

END:VCALENDAR
