BEGIN:VCALENDAR
VERSION:2.0
PRODID:-//ChamberMaster//Event Calendar 2.0//EN
METHOD:PUBLISH
X-PUBLISHED-TTL:P3D
REFRESH-INTERVAL:P3D
CALSCALE:GREGORIAN
BEGIN:VEVENT
DTSTART:20180921T210000Z
DTEND:20180922T190000Z
X-MICROSOFT-CDO-ALLDAYEVENT:FALSE
SUMMARY:Fall Bridal Show of West Michigan
DESCRIPTION:Brides...bring your groom\, mother\, mother-in-law\, bridesmaids and friends to experience all this show has to offer. Plan your wedding all under one roof at this 16th annual Fall Bridal Show at beautiful DeVos Place. Meet wedding professionals face-to-face as a way to explore the products and services you want to utilize for your special day! Mark your calendars to attend this must see show for planning your dream wedding. * Fashion Shows: Fri. 7pm & Sat. 1pm * Bridal Gowns & Bridesmaid Dresses * Men's Tuxedos & Suits * Flowers & Decorations * Bridal Gift Registry * Photography & Photo Booth * Honeymoon & Travel   Health & Beauty   Tent & Party Rentals   Bachelor & Bachelorette Party Ideas * Catering & Bar Services * Ceremony Venues * Reception Facilities * DJ's & Music * Wedding Rings & Jewelry * Hotel & Lodging * Limousine & Party Bus * Cakes & Desserts * Cookware & Culinary * Register to WIN for PRIZES!
X-ALT-DESC;FMTTYPE=text/html:Brides...bring your groom\, mother\, mother-in-law\, bridesmaids and friends to experience all this show has to offer. Plan your wedding all under one roof at this 16th annual Fall Bridal Show at beautiful DeVos Place. Meet wedding professionals face-to-face as a way to explore the products and services you want to utilize for your special day! Mark your calendars to attend this must see show for planning your dream wedding. * Fashion Shows: Fri. 7pm &amp\; Sat. 1pm * Bridal Gowns &amp\; Bridesmaid Dresses * Men&rsquo\;s Tuxedos &amp\; Suits * Flowers &amp\; Decorations * Bridal Gift Registry * Photography &amp\; Photo Booth * Honeymoon &amp\; Travel &middot\; Health &amp\; Beauty &middot\; Tent &amp\; Party Rentals &middot\; Bachelor &amp\; Bachelorette Party Ideas * Catering &amp\; Bar Services * Ceremony Venues * Reception Facilities * DJ&rsquo\;s &amp\; Music * Wedding Rings &amp\; Jewelry * Hotel &amp\; Lodging * Limousine &amp\; Party Bus * Cakes &amp\; Desserts * Cookware &amp\; Culinary * Register to WIN for PRIZES!
LOCATION:DeVos Place
UID:e.2018.867
SEQUENCE:3
DTSTAMP:20260422T134219Z
URL:https://members.westmihcc.org/events/details/fall-bridal-show-of-west-michigan-09-21-2018-867
END:VEVENT

END:VCALENDAR
