BEGIN:VCALENDAR
VERSION:2.0
PRODID:-//ChamberMaster//Event Calendar 2.0//EN
METHOD:PUBLISH
X-PUBLISHED-TTL:P3D
REFRESH-INTERVAL:P3D
CALSCALE:GREGORIAN
BEGIN:VEVENT
DTSTART:20170922T210000Z
DTEND:20170923T190000Z
X-MICROSOFT-CDO-ALLDAYEVENT:FALSE
SUMMARY:Fall Bridal Show of West Michigan
DESCRIPTION:Fall Bridal Show of West Michigan September 22-23\, 2017 Hours: Fri. 5pm - 9pm and Sat. 11am - 3pm DeVos Place\, downtown Grand Rapids\, MI www.KohlerExpo.com Brides\, Grooms\, Moms and Friends come celebrate your special day! Plan your wedding all under one roof.   Fashion Shows: Fri. 7pm & Sat. 1pm   Bridal Gowns & Bridesmaid Dresses   Men's Tuxedo Formalwear & Suits   Floral & D cor   Bridal Gift Registry   Photography   Honeymoon Travel   Health & Wellness   Tent & Party Rentals   Catering   Ceremony Venues   Reception Facilities   DJ's & Music   Wedding Rings & Jewelry   Culinary   Limousine & Party Bus   Cakes & Desserts   and much more! Show discounts from local wedding professionals offered to Brides and Grooms\, including the chance to win exciting door prizes! Meet leading bridal exhibitors face-to-face to help make your wedding day special. View current and trendy Bridal Gowns at our runway Fashion Shows: Friday at 7 pm and Saturday at 1 pm. Bridal Show is open to the General Public. Tickets are available at the door or online at www.kohlerexpo.com. For additional information and discount coupon\, please visit www.kohlerexpo.com. Thank you. Kohler Expos\, Inc. produces: Fall Bridal Show of West Michigan   September 22-23\, 2017 Shopping & Lifestyle Expo   October 14-15\, 2017 - DeVos Place\, Grand Rapids\, Michigan Winter Bridal Show of West Michigan   January 27\, 2018  DeVos Place\, Grand Rapids\, Michigan Kids and Family Expo   January 27\, 2018   DeVos Place\, Grand Rapids\, Michigan Mid-Michigan Women's Expo   February 2-4\, 2018 - Lansing Center\, Lansing\, Michigan West Michigan Women's Expo   March 9-11\, 2018 - DeVos Place\, Grand Rapids\, Michigan
X-ALT-DESC;FMTTYPE=text/html:Fall Bridal Show of West Michigan September 22-23\, 2017 Hours: Fri. 5pm - 9pm and Sat. 11am - 3pm DeVos Place\, downtown Grand Rapids\, MI www.KohlerExpo.com Brides\, Grooms\, Moms and Friends&hellip\;come celebrate your special day! Plan your wedding all under one roof. &bull\; Fashion Shows: Fri. 7pm &amp\; Sat. 1pm &bull\; Bridal Gowns &amp\; Bridesmaid Dresses &bull\; Men&rsquo\;s Tuxedo Formalwear &amp\; Suits &bull\; Floral &amp\; D&eacute\;cor &bull\; Bridal Gift Registry &bull\; Photography &bull\; Honeymoon Travel &bull\; Health &amp\; Wellness &bull\; Tent &amp\; Party Rentals &bull\; Catering &bull\; Ceremony Venues &bull\; Reception Facilities &bull\; DJ&rsquo\;s &amp\; Music &bull\; Wedding Rings &amp\; Jewelry &bull\; Culinary &bull\; Limousine &amp\; Party Bus &bull\; Cakes &amp\; Desserts &bull\; and much more! Show discounts from local wedding professionals offered to Brides and Grooms\, including the chance to win exciting door prizes! Meet leading bridal exhibitors face-to-face to help make your wedding day special. View current and trendy Bridal Gowns at our runway Fashion Shows: Friday at 7 pm and Saturday at 1 pm. Bridal Show is open to the General Public. Tickets are available at the door or online at www.kohlerexpo.com. For additional information and discount coupon\, please visit www.kohlerexpo.com. Thank you. Kohler Expos\, Inc. produces: Fall Bridal Show of West Michigan &ndash\; September 22-23\, 2017 Shopping &amp\; Lifestyle Expo &ndash\; October 14-15\, 2017 - DeVos Place\, Grand Rapids\, Michigan Winter Bridal Show of West Michigan &ndash\; January 27\, 2018&ndash\; DeVos Place\, Grand Rapids\, Michigan Kids and Family Expo &ndash\; January 27\, 2018 &ndash\; DeVos Place\, Grand Rapids\, Michigan Mid-Michigan Women&rsquo\;s Expo &ndash\; February 2-4\, 2018 - Lansing Center\, Lansing\, Michigan West Michigan Women&rsquo\;s Expo &ndash\; March 9-11\, 2018 - DeVos Place\, Grand Rapids\, Michigan
LOCATION:DeVos Place - Grand Rapids\, MI
UID:e.2018.616
SEQUENCE:3
DTSTAMP:20260423T064931Z
URL:https://members.westmihcc.org/events/details/fall-bridal-show-of-west-michigan-616
END:VEVENT

END:VCALENDAR
