BEGIN:VCALENDAR
VERSION:2.0
PRODID:-//ChamberMaster//Event Calendar 2.0//EN
METHOD:PUBLISH
X-PUBLISHED-TTL:P3D
REFRESH-INTERVAL:P3D
CALSCALE:GREGORIAN
BEGIN:VEVENT
DTSTART:20160923T210000Z
DTEND:20160924T200000Z
X-MICROSOFT-CDO-ALLDAYEVENT:FALSE
SUMMARY:Fall Bridal Show - September 23-24\, 2016
DESCRIPTION:Bridal Show of West Michigan   Fall September 23-24\, 2016 DeVos Place\, Grand Rapids\, MI Hours: Fri. 5-9pm & Sat.11am-4pm www.KohlerExpo.com Brides\, Grooms\, Moms and Friends come celebrate this special day!   Bridal Fashion Shows   Bridal Gowns-Wedding Dresses   Tuxedos-Formalwear   Flowers-Decorations   Bridal Gift Registry   Photography   Hotel - Lodging   Beauty   Catering   Bar Services   Wedding Venues & Reception Facilities   Music - DJ's   Cookware   Culinary   Photo Booth   Wedding Favors   Limousine   Party Bus Show discounts from local wedding professionals offered to Brides and Grooms\, including the chance to win exciting door prizes for your wedding. Meet leading bridal exhibitors face-to-face to help make your wedding special. View current and trendy Bridal Gowns at several of our runway Fashion Shows: Friday at 7 pm and Saturday at 12 noon and 2 pm. Bridal Show is open to the General Public. Admission at the Door. For additional information and $1 off coupon\, please visit www.kohlerexpo.com
X-ALT-DESC;FMTTYPE=text/html:Bridal Show of West Michigan &ndash\; Fall September 23-24\, 2016 DeVos Place\, Grand Rapids\, MI Hours: Fri. 5-9pm &amp\; Sat.11am-4pm www.KohlerExpo.com Brides\, Grooms\, Moms and Friends&hellip\;come celebrate this special day! &bull\; Bridal Fashion Shows &bull\; Bridal Gowns-Wedding Dresses &bull\; Tuxedos-Formalwear &bull\; Flowers-Decorations &bull\; Bridal Gift Registry &bull\; Photography &bull\; Hotel - Lodging &bull\; Beauty &bull\; Catering &bull\; Bar Services &bull\; Wedding Venues &amp\; Reception Facilities &bull\; Music - DJ&rsquo\;s &bull\; Cookware &ndash\; Culinary &bull\; Photo Booth &bull\; Wedding Favors &bull\; Limousine &ndash\; Party Bus Show discounts from local wedding professionals offered to Brides and Grooms\, including the chance to win exciting door prizes for your wedding. Meet leading bridal exhibitors face-to-face to help make your wedding special. View current and trendy Bridal Gowns at several of our runway Fashion Shows: Friday at 7 pm and Saturday at 12 noon and 2 pm. Bridal Show is open to the General Public. Admission at the Door. For additional information and $1 off coupon\, please visit www.kohlerexpo.com
LOCATION:DeVos Place 303 Monroe Ave NW Grand Rapids\, MI 49503
UID:e.2018.413
SEQUENCE:3
DTSTAMP:20260425T225733Z
URL:https://members.westmihcc.org/events/details/fall-bridal-show-september-23-24-2016-09-23-2016-413
END:VEVENT

END:VCALENDAR
