BEGIN:VCALENDAR
VERSION:2.0
PRODID:-//ChamberMaster//Event Calendar 2.0//EN
METHOD:PUBLISH
X-PUBLISHED-TTL:P3D
REFRESH-INTERVAL:P3D
CALSCALE:GREGORIAN
BEGIN:VEVENT
DTSTART:20180906T230000Z
DTEND:20180907T030000Z
X-MICROSOFT-CDO-ALLDAYEVENT:FALSE
SUMMARY:Fall Out Boy: featuring Machine Gun Kelly
DESCRIPTION:Multi-platinum selling\, Grammy-nominated Chicago band Fall Out Boy and their M A N I A tour make a stop at Van Andel Arena. Featured guest will be Machine Gun Kelly. $1 from every ticket sold will go to the Fall Out Boy Fund benefiting charities throughout Chicago. Tickets go on sale Friday\, January 26\, 2018 @ 11 AM. Tickets may be purchased at the Van Andel Arena  and DeVos Place  convention center box offices\, charge by phone: 1.800.745.3000 or on-line at Ticketmaster.com. Ticket prices are subject to change.
X-ALT-DESC;FMTTYPE=text/html:Multi-platinum selling\, Grammy-nominated Chicago band Fall Out Boy and their M A N I A tour make a stop at Van Andel Arena. Featured guest will be Machine Gun Kelly. $1 from every ticket sold will go to the Fall Out Boy Fund benefiting charities throughout Chicago. Tickets go on sale Friday\, January 26\, 2018 @ 11 AM. Tickets may be purchased at the Van Andel Arena&reg\; and DeVos Place&reg\; convention center box offices\, charge by phone: 1.800.745.3000 or on-line at Ticketmaster.com. Ticket prices are subject to change.
LOCATION:Van Andel Arena
UID:e.2018.747
SEQUENCE:3
DTSTAMP:20260422T144333Z
URL:https://members.westmihcc.org/events/details/fall-out-boy-featuring-machine-gun-kelly-747
END:VEVENT

END:VCALENDAR
