BEGIN:VCALENDAR
VERSION:2.0
PRODID:-//ChamberMaster//Event Calendar 2.0//EN
METHOD:PUBLISH
X-PUBLISHED-TTL:P3D
REFRESH-INTERVAL:P3D
CALSCALE:GREGORIAN
BEGIN:VEVENT
DTSTART:20190824T000000Z
DTEND:20190824T030000Z
X-MICROSOFT-CDO-ALLDAYEVENT:FALSE
SUMMARY:¡Felabration!
DESCRIPTION:Join us for an immersive music and dance experience celebrating the legacy of famed Nigerian Afrobeat creator Fela Anikulapo Kuti. Musical Director and percussionist Frank Moka teams up with writer/director Iv Amenti to re-create Fela's unforgettable fusion of traditional African rhythms\, funk\, and jazz. Everybody say Yeah Yeah!
X-ALT-DESC;FMTTYPE=text/html:Join us for an immersive music and dance experience celebrating the legacy of famed Nigerian Afrobeat creator Fela Anikulapo Kuti. Musical Director and percussionist Frank Moka teams up with writer/director Iv Amenti to re-create Fela&#39\;s unforgettable fusion of traditional African rhythms\, funk\, and jazz. Everybody say Yeah Yeah!
LOCATION:The Cube 3711 Woodward Avenue Detroit\, Mi 48201
UID:e.2018.1280
SEQUENCE:3
DTSTAMP:20260419T225254Z
URL:https://members.westmihcc.org/events/details/felabration-1280
END:VEVENT

END:VCALENDAR
