BEGIN:VCALENDAR
VERSION:2.0
PRODID:-//ChamberMaster//Event Calendar 2.0//EN
METHOD:PUBLISH
X-PUBLISHED-TTL:P3D
REFRESH-INTERVAL:P3D
CALSCALE:GREGORIAN
BEGIN:VEVENT
DTSTART:20180408T000000Z
DTEND:20180408T020000Z
X-MICROSOFT-CDO-ALLDAYEVENT:FALSE
SUMMARY:Festival of Laughs
DESCRIPTION:Festival of Laughs is a star-studded lineup of laughter featuring comedians Sommore\, DeRay Davis\, Arnez J and George Wallace hitting the DeVos Performance Hall stage on Saturday\, April 7\, 2018 at 8:00PM. Tickets go on sale Monday\, November 20th at 10:00AM. Tickets will be available online at Ticketmaster.com\, the Van Andel Arena and DeVos Place box offices and charge by phone at 1-800-745-3000. Ticket prices are subject to change. Line up is subject to change.
X-ALT-DESC;FMTTYPE=text/html:Festival of Laughs is a star-studded lineup of laughter featuring comedians Sommore\, DeRay Davis\, Arnez J and George Wallace hitting the DeVos Performance Hall stage on Saturday\, April 7\, 2018 at 8:00PM. Tickets go on sale Monday\, November 20th at 10:00AM. Tickets will be available online at Ticketmaster.com\, the Van Andel Arena and DeVos Place box offices and charge by phone at 1-800-745-3000. Ticket prices are subject to change. Line up is subject to change.
LOCATION:DeVos Performance Hall
UID:e.2018.711
SEQUENCE:3
DTSTAMP:20260422T201013Z
URL:https://members.westmihcc.org/events/details/festival-of-laughs-711
END:VEVENT

END:VCALENDAR
