BEGIN:VCALENDAR
VERSION:2.0
PRODID:-//ChamberMaster//Event Calendar 2.0//EN
METHOD:PUBLISH
X-PUBLISHED-TTL:P3D
REFRESH-INTERVAL:P3D
CALSCALE:GREGORIAN
BEGIN:VEVENT
DTSTART:20160721T233000Z
DTEND:20160722T020000Z
X-MICROSOFT-CDO-ALLDAYEVENT:FALSE
SUMMARY:Fifth Annual: The Piano Cottage Rocks!
DESCRIPTION:Private music studio The Piano Cottage is bringing its 'The Piano Cottage Rocks!' show\, a fun\, high-energy\, family-friendly\, annual rock-and-roll concert featuring amazing local musicians ages 8-16 who bring crowds to their feet and put smiles on faces\, to DeVos Performance Hall on Thursday\, July 21\, 2016 at 7:30 PM. Past performances at Frederik Meijer Gardens and Wealthy Theatre have sold out\, and each summer concert showcases incredible musicianship\, ranging from beautiful and technical acoustic performances to huge whole-band numbers backed by a 75-member Cottage Chorus. Past performances have included covers of Michael Jackson\, Styx\, The Beatles\, Kelly Clarkson\, fun.\, Billy Joel\, and more. Tickets will go on sale to the general public beginning Monday\, February 1 at 10:00 AM. Ticket will be available at the DeVos Place  and Van Andel Arena  box offices\, all Ticketmaster outlets\, online at Ticketmaster.com\, and by phone at 1-800-745-3000. Prices are subject to change.
X-ALT-DESC;FMTTYPE=text/html:Private music studio The Piano Cottage is bringing its &#39\;The Piano Cottage Rocks!&#39\; show\, a fun\, high-energy\, family-friendly\, annual rock-and-roll concert featuring amazing local musicians ages 8-16 who bring crowds to their feet and put smiles on faces\, to DeVos Performance Hall on Thursday\, July 21\, 2016 at 7:30 PM. Past performances at Frederik Meijer Gardens and Wealthy Theatre have sold out\, and each summer concert showcases incredible musicianship\, ranging from beautiful and technical acoustic performances to huge whole-band numbers backed by a 75-member Cottage Chorus. Past performances have included covers of Michael Jackson\, Styx\, The Beatles\, Kelly Clarkson\, fun.\, Billy Joel\, and more. Tickets will go on sale to the general public beginning Monday\, February 1 at 10:00 AM. Ticket will be available at the DeVos Place&reg\; and Van Andel Arena&reg\; box offices\, all Ticketmaster outlets\, online at Ticketmaster.com\, and by phone at 1-800-745-3000. Prices are subject to change.
LOCATION:DeVos Performance Hall
UID:e.2018.352
SEQUENCE:3
DTSTAMP:20260426T011829Z
URL:https://members.westmihcc.org/events/details/fifth-annual-the-piano-cottage-rocks-07-21-2016-352
END:VEVENT

END:VCALENDAR
