BEGIN:VCALENDAR
VERSION:2.0
PRODID:-//ChamberMaster//Event Calendar 2.0//EN
METHOD:PUBLISH
X-PUBLISHED-TTL:P3D
REFRESH-INTERVAL:P3D
CALSCALE:GREGORIAN
BEGIN:VEVENT
DTSTART:20180724T220000Z
DTEND:20180725T010000Z
X-MICROSOFT-CDO-ALLDAYEVENT:FALSE
SUMMARY:Financial Capabilities en español
DESCRIPTION:Financial Capabilities is an educational\, self-supporting process that helps to build responsible home owners. This is accomplished by providing members with information that\, along with their own determination and self-sacrifice\, enables them to become home owners and improve their quality of life.
X-ALT-DESC;FMTTYPE=text/html:<span style="font-size:10px"><span style="font-family:arial\,helvetica\,sans-serif">Financial Capabilities is an educational\, self-supporting process that helps to build responsible home owners. This is accomplished by providing members with information that\, along with their own determination and self-sacrifice\, enables them to become home owners and improve their quality of life.</span></span>
LOCATION:400 Franklin St SE Grand Rapids MI 49507
UID:e.2018.877
SEQUENCE:3
DTSTAMP:20260422T160200Z
URL:https://members.westmihcc.org/events/details/financial-capabilities-en-espa&#241;ol-07-24-2018-877
END:VEVENT

END:VCALENDAR
