BEGIN:VCALENDAR
VERSION:2.0
PRODID:-//ChamberMaster//Event Calendar 2.0//EN
METHOD:PUBLISH
X-PUBLISHED-TTL:P3D
REFRESH-INTERVAL:P3D
CALSCALE:GREGORIAN
BEGIN:VEVENT
DTSTART:20170221T230000Z
DTEND:20170222T010000Z
X-MICROSOFT-CDO-ALLDAYEVENT:FALSE
SUMMARY:Financial Management
DESCRIPTION:This course introduces basic accounting concepts and how to apply financial information that helps small business owners manage a business more effectively. Key documents including Cash flow Statement\, Profit & Loss\, and Balance Sheet are explained\, using specific small business examples. The course is designed to help entrepreneurs understand accounting principles and financial statements\, and work more effectively with the accounting team. No cost! Presented by SBDC West Michigan. To register\, go online at https://clients.sbdcmichigan.org/workshop.aspx?ekey=70370024 or call SBDC West Michigan at (616)331-7370.
X-ALT-DESC;FMTTYPE=text/html:This course introduces basic accounting concepts and how to apply financial information that helps small business owners manage a business more effectively. Key documents including Cash flow Statement\, Profit &amp\; Loss\, and Balance Sheet are explained\, using specific small business examples. The course is designed to help entrepreneurs understand accounting principles and financial statements\, and work more effectively with the accounting team. No cost! Presented by SBDC West Michigan. To register\, go online at https://clients.sbdcmichigan.org/workshop.aspx?ekey=70370024 or call SBDC West Michigan at (616)331-7370.
LOCATION:GVSU L. William Seidman Center Forum 50 Front Avenue SW Grand Rapids\, MI 49504
UID:e.2018.533
SEQUENCE:3
DTSTAMP:20260425T160450Z
URL:https://members.westmihcc.org/events/details/financial-management-02-21-2017-533
END:VEVENT

END:VCALENDAR
