BEGIN:VCALENDAR
VERSION:2.0
PRODID:-//ChamberMaster//Event Calendar 2.0//EN
METHOD:PUBLISH
X-PUBLISHED-TTL:P3D
REFRESH-INTERVAL:P3D
CALSCALE:GREGORIAN
BEGIN:VEVENT
DTSTART:20161019T220000Z
DTEND:20161020T000000Z
X-MICROSOFT-CDO-ALLDAYEVENT:FALSE
SUMMARY:Financial Management
DESCRIPTION:This course introduces basic accounting concepts and how to apply financial information that helps small business owners manage a business more effectively. Key documents including Cash flow Statement\, Profit & Loss\, and Balance Sheet are explained\, using specific small business examples. The course is designed to help entrepreneurs understand accounting principles and financial statements\, and work more effectively with the accounting team.
X-ALT-DESC;FMTTYPE=text/html:This course introduces basic accounting concepts and how to apply financial information that helps small business owners manage a business more effectively. Key documents including Cash flow Statement\, Profit &amp\; Loss\, and Balance Sheet are explained\, using specific small business examples. The course is designed to help entrepreneurs understand accounting principles and financial statements\, and work more effectively with the accounting team.
LOCATION:Muskegon Innovation Hub 200 Viridian Drive Muskegon\, MI 49440
UID:e.2018.439
SEQUENCE:3
DTSTAMP:20260425T224154Z
URL:https://members.westmihcc.org/events/details/financial-management-10-19-2016-439
END:VEVENT

END:VCALENDAR
