BEGIN:VCALENDAR
VERSION:2.0
PRODID:-//ChamberMaster//Event Calendar 2.0//EN
METHOD:PUBLISH
X-PUBLISHED-TTL:P3D
REFRESH-INTERVAL:P3D
CALSCALE:GREGORIAN
BEGIN:VEVENT
DTSTART:20171205T230000Z
DTEND:20171206T010000Z
X-MICROSOFT-CDO-ALLDAYEVENT:FALSE
SUMMARY:Financial Management
DESCRIPTION:This course introduces basic accounting concepts and how to apply financial information that helps small business owners manage a business more effectively. Key documents including Cash flow Statement\, Profit & Loss\, and Balance Sheet are explained\, using specific small business examples. The course is designed to help entrepreneurs understand accounting principles and financial statements\, and work more effectively with the accounting team. Speaker(s): Corey Swiftney\, Triune Financial No cost. To register\, please go to https://clients.sbdcmichigan.org/workshop.aspx?ekey=70370077 or call our office at 616-331-7370.
X-ALT-DESC;FMTTYPE=text/html:This course introduces basic accounting concepts and how to apply financial information that helps small business owners manage a business more effectively. Key documents including Cash flow Statement\, Profit &amp\; Loss\, and Balance Sheet are explained\, using specific small business examples. The course is designed to help entrepreneurs understand accounting principles and financial statements\, and work more effectively with the accounting team. Speaker(s): Corey Swiftney\, Triune Financial No cost. To register\, please go to https://clients.sbdcmichigan.org/workshop.aspx?ekey=70370077 or call our office at 616-331-7370.
LOCATION:Grand Valley State University L William Seidman Center 50 Front Ave SW Grand Rapids\, MI 49504
UID:e.2018.607
SEQUENCE:3
DTSTAMP:20260423T021154Z
URL:https://members.westmihcc.org/events/details/financial-management-12-05-2017-607
END:VEVENT

END:VCALENDAR
