BEGIN:VCALENDAR
VERSION:2.0
PRODID:-//ChamberMaster//Event Calendar 2.0//EN
METHOD:PUBLISH
X-PUBLISHED-TTL:P3D
REFRESH-INTERVAL:P3D
CALSCALE:GREGORIAN
BEGIN:VEVENT
DTSTART:20160921T150000Z
DTEND:20160921T170000Z
X-MICROSOFT-CDO-ALLDAYEVENT:FALSE
SUMMARY:Finding a Work/Home Balance as a Small Business Owner
DESCRIPTION:Finding a Work/Home Balance as a Small Business Owner Join us for an interactive discussion with Jennifer Kok\, mother of three and small business owner for 18 years. We'll discuss how to set goals\, prioritize what is important\, allow yourself flexibility an dtime off -- and still be a successful business owner. You will leave with ideas and tools to help you find your work/home balance. Lunch will be provided. Please contact GROW at info2@growbusiness.org with any dietary restrictions by Septmeber 19th. Please note that the YWCA building is currently under construction\, and the rear parking lot is unavailable. Metered parking\, and City ramps are available during the day. The spectrum health lot on La Grave Ave is also available for use after 5:00pm.
X-ALT-DESC;FMTTYPE=text/html:Finding a Work/Home Balance as a Small Business Owner Join us for an interactive discussion with Jennifer Kok\, mother of three and small business owner for 18 years. We&#39\;ll discuss how to set goals\, prioritize what is important\, allow yourself flexibility an dtime off -- and still be a successful business owner. You will leave with ideas and tools to help you find your work/home balance. Lunch will be provided. Please contact GROW at info2@growbusiness.org with any dietary restrictions by Septmeber 19th. Please note that the YWCA building is currently under construction\, and the rear parking lot is unavailable. Metered parking\, and City ramps are available during the day. The spectrum health lot on La Grave Ave is also available for use after 5:00pm.
LOCATION:Grand Rapids Opportunities for Women
UID:e.2018.472
SEQUENCE:3
DTSTAMP:20260426T001527Z
URL:https://members.westmihcc.org/events/details/finding-a-work-home-balance-as-a-small-business-owner-472
END:VEVENT

END:VCALENDAR
