BEGIN:VCALENDAR
VERSION:2.0
PRODID:-//ChamberMaster//Event Calendar 2.0//EN
METHOD:PUBLISH
X-PUBLISHED-TTL:P3D
REFRESH-INTERVAL:P3D
CALSCALE:GREGORIAN
BEGIN:VEVENT
DTSTART:20160504T230000Z
DTEND:20160505T010000Z
X-MICROSOFT-CDO-ALLDAYEVENT:FALSE
SUMMARY:Five Finger Death Punch & Shinedown
DESCRIPTION:Five Finger Death Punch will team up with Shinedown for a series of co-headlining shows this May\, in conjunction with all of their performances at the biggest U.S. festivals of the year. The tour stops in Grand Rapids at Van Andel Arena on Wednesday\, May 4\, 2016 at 7:00 PM. P.O.D. will open the show. Tickets go on sale to the general public beginning Friday\, February 5 at 10:00 AM. Tickets will be available at the Van Andel Arena and DeVos Place  box offices\, all Ticketmaster outlets\, online at Ticketmaster.com\, and by phone at 1-800-745-3000. Prices are subject to change.
X-ALT-DESC;FMTTYPE=text/html:Five Finger Death Punch will team up with Shinedown for a series of co-headlining shows this May\, in conjunction with all of their performances at the biggest U.S. festivals of the year. The tour stops in Grand Rapids at Van Andel Arena on Wednesday\, May 4\, 2016 at 7:00 PM. P.O.D. will open the show. Tickets go on sale to the general public beginning Friday\, February 5 at 10:00 AM. Tickets will be available at the Van Andel Arena and DeVos Place&reg\; box offices\, all Ticketmaster outlets\, online at Ticketmaster.com\, and by phone at 1-800-745-3000. Prices are subject to change.
LOCATION:130 W. Fulton St. Van Andel Arena
UID:e.2018.353
SEQUENCE:3
DTSTAMP:20260426T035527Z
URL:https://members.westmihcc.org/events/details/five-finger-death-punch-shinedown-05-04-2016-353
END:VEVENT

END:VCALENDAR
