BEGIN:VCALENDAR
VERSION:2.0
PRODID:-//ChamberMaster//Event Calendar 2.0//EN
METHOD:PUBLISH
X-PUBLISHED-TTL:P3D
REFRESH-INTERVAL:P3D
CALSCALE:GREGORIAN
BEGIN:VEVENT
DTSTART:20181009T000000Z
DTEND:20181009T030000Z
X-MICROSOFT-CDO-ALLDAYEVENT:FALSE
SUMMARY:FLEETWOOD MAC
DESCRIPTION:Legendary\, GRAMMY-award winning band Fleetwood Mac recently announced their North American tour\, set to kick off in October and travel through 50+ cities ending in Spring of 2019. Produced by Live Nation\, the tour will feature the newly announced line-up of Mick Fleetwood\, John McVie\, Stevie Nicks\, and Christine McVie along with newcomers Mike Campbell and Neil Finn. The tour will come to Grand Rapids on Monday\, October 8\, 2018 at 8:00 PM.
X-ALT-DESC;FMTTYPE=text/html:Legendary\, GRAMMY-award winning band Fleetwood Mac recently announced their North American tour\, set to kick off in October and travel through 50+ cities ending in Spring of 2019. Produced by Live Nation\, the tour will feature the newly announced line-up of Mick Fleetwood\, John McVie\, Stevie Nicks\, and Christine McVie along with newcomers Mike Campbell and Neil Finn. The tour will come to Grand Rapids on Monday\, October 8\, 2018 at 8:00 PM.
LOCATION:Van Andel Arena
UID:e.2018.896
SEQUENCE:3
DTSTAMP:20260422T122128Z
URL:https://members.westmihcc.org/events/details/fleetwood-mac-896
END:VEVENT

END:VCALENDAR
