BEGIN:VCALENDAR
VERSION:2.0
PRODID:-//ChamberMaster//Event Calendar 2.0//EN
METHOD:PUBLISH
X-PUBLISHED-TTL:P3D
REFRESH-INTERVAL:P3D
CALSCALE:GREGORIAN
BEGIN:VEVENT
DTSTART:20181210T000000Z
DTEND:20181210T030000Z
X-MICROSOFT-CDO-ALLDAYEVENT:FALSE
SUMMARY:FOR KING & COUNTRY: CHRISTMAS 2018 WITH ZACH WILLIAMS
DESCRIPTION:Christian pop group\, for King & Country\, composed of Australian brothers Joel and Luke Smallbone\, bring their Christmas Tour to Van Andel Arena. Special guest will be Zach Williams.
X-ALT-DESC;FMTTYPE=text/html:Christian pop group\, for King &amp\; Country\, composed of Australian brothers Joel and Luke Smallbone\, bring their Christmas Tour to Van Andel Arena. Special guest will be Zach Williams.
LOCATION:Van Andel Arena
UID:e.2018.895
SEQUENCE:3
DTSTAMP:20260422T095741Z
URL:https://members.westmihcc.org/events/details/for-king-country-christmas-2018-with-zach-williams-895
END:VEVENT

END:VCALENDAR
