BEGIN:VCALENDAR
VERSION:2.0
PRODID:-//ChamberMaster//Event Calendar 2.0//EN
METHOD:PUBLISH
X-PUBLISHED-TTL:P3D
REFRESH-INTERVAL:P3D
CALSCALE:GREGORIAN
BEGIN:VEVENT
DTSTART:20160606T140000Z
DTEND:20160606T160000Z
X-MICROSOFT-CDO-ALLDAYEVENT:FALSE
SUMMARY:Fraud Watch Network Presentation
DESCRIPTION:A workshop on learning how to protect yourself from scams and identity theft.
X-ALT-DESC;FMTTYPE=text/html:A workshop on learning how to protect yourself from scams and identity theft.
LOCATION:Wyoming Senior Center\, 2380 De Hoop\, Wyoming\, MI
UID:e.2018.392
SEQUENCE:3
DTSTAMP:20260426T023416Z
URL:https://members.westmihcc.org/events/details/fraud-watch-network-presentation-06-06-2016-392
END:VEVENT

END:VCALENDAR
