BEGIN:VCALENDAR
VERSION:2.0
PRODID:-//ChamberMaster//Event Calendar 2.0//EN
METHOD:PUBLISH
X-PUBLISHED-TTL:P3D
REFRESH-INTERVAL:P3D
CALSCALE:GREGORIAN
BEGIN:VEVENT
DTSTART:20190807T130000Z
DTEND:20190807T170000Z
X-MICROSOFT-CDO-ALLDAYEVENT:FALSE
SUMMARY:Free SBDC Consultations
DESCRIPTION:Do you need help writing your business plans\, deciding your legal structure\, and more?\n\n\n\nIn partnership with the Small Business Development Center (SBDC)\, the Hispanic Chamber hosts free consultations every 1st and 3rd Wednesday of the month at our office. Our SBDC consultant\, George Fotis\, is able to meet for one hour appointments and answer any question you may have about your business or start-up. To set up an appointment\, call us at (616) 452-3960\, or email us at info@westmihcc.org. WALK-INS NOT ACCEPTED.
X-ALT-DESC;FMTTYPE=text/html:<strong>Do you need help writing your business plans\, deciding your legal structure\, and more?</strong><br />\n<br />\nIn partnership with the Small Business Development Center (SBDC)\, the Hispanic Chamber hosts free consultations every 1st and 3rd Wednesday of the month at our office. Our SBDC consultant\, George Fotis\, is able to meet for one hour appointments and answer any question you may have about your business or start-up. To set up an appointment\, call us at (616) 452-3960\, or email us at info@westmihcc.org. WALK-INS NOT ACCEPTED.
LOCATION:WMHCC Office 2007 S Division Ave\, Grand Rapids\, MI 49507 We are located on the corner of Burton and Division\, across the street from Robbins Lock Shop and directly behind the Silver line bus stop. We are between a Boost Mobile store\, and a large glass front store. Our logo is on our door. Follow the stairs to the second floor to be greeted.
UID:e.2018.1086
SEQUENCE:3
DTSTAMP:20260419T225520Z
URL:https://members.westmihcc.org/events/details/free-sbdc-consultations-08-07-2019-1086
END:VEVENT

END:VCALENDAR
