BEGIN:VCALENDAR
VERSION:2.0
PRODID:-//ChamberMaster//Event Calendar 2.0//EN
METHOD:PUBLISH
X-PUBLISHED-TTL:P3D
REFRESH-INTERVAL:P3D
CALSCALE:GREGORIAN
BEGIN:VEVENT
DTSTART:20170401T130000Z
DTEND:20170402T180000Z
X-MICROSOFT-CDO-ALLDAYEVENT:FALSE
SUMMARY:Fundraiser for Cuba
DESCRIPTION:Please help us share this event. I'm one of the only Hispac Martial Arts teachers in West Michigan. We are trying to help martial artists in Cuba where they have few resources. We have set up a link for donations. If the community of Grand Rapids can provide even a few hundred dollars toward this event it will be huge. https://www.facebook.com/events/1705094186447206/?ti=cl
X-ALT-DESC;FMTTYPE=text/html:Please help us share this event. I&#39\;m one of the only Hispac Martial Arts teachers in West Michigan. We are trying to help martial artists in Cuba where they have few resources. We have set up a link for donations. If the community of Grand Rapids can provide even a few hundred dollars toward this event it will be huge. https://www.facebook.com/events/1705094186447206/?ti=cl
LOCATION:Kyoseikan Dojo 401 Hall St. SW B-148 Grand Rapids\, MI\, 49503
UID:e.2018.537
SEQUENCE:3
DTSTAMP:20260425T131535Z
URL:https://members.westmihcc.org/events/details/fundraiser-for-cuba-537
END:VEVENT

END:VCALENDAR
