BEGIN:VCALENDAR
VERSION:2.0
PRODID:-//ChamberMaster//Event Calendar 2.0//EN
METHOD:PUBLISH
X-PUBLISHED-TTL:P3D
REFRESH-INTERVAL:P3D
CALSCALE:GREGORIAN
BEGIN:VEVENT
DTSTART:20170503T130000Z
DTEND:20170503T150000Z
X-MICROSOFT-CDO-ALLDAYEVENT:FALSE
SUMMARY:Get Found on Google Search and Maps
DESCRIPTION:We explain how to set up Google My Business\, a free tool that helps you manage information displayed to customers on Google Search and Maps.
X-ALT-DESC;FMTTYPE=text/html:We explain how to set up Google My Business\, a free tool that helps you manage information displayed to customers on Google Search and Maps.
LOCATION:GROW
UID:e.2018.587
SEQUENCE:3
DTSTAMP:20260425T133209Z
URL:https://members.westmihcc.org/events/details/get-found-on-google-search-and-maps-05-03-2017-587
END:VEVENT

END:VCALENDAR
