BEGIN:VCALENDAR
VERSION:2.0
PRODID:-//ChamberMaster//Event Calendar 2.0//EN
METHOD:PUBLISH
X-PUBLISHED-TTL:P3D
REFRESH-INTERVAL:P3D
CALSCALE:GREGORIAN
BEGIN:VEVENT
DTSTART:20190220T190000Z
DTEND:20190220T210000Z
X-MICROSOFT-CDO-ALLDAYEVENT:FALSE
SUMMARY:Get Found on Google Search & Maps & Reach Customers Online with Google (Muskegon)
DESCRIPTION:Explore Google My Business\, a free tool for local businesses\, who want to connect with customers on Google Search & Maps. Get hands-on help creating or updating your listing and take advantage of a free website.
X-ALT-DESC;FMTTYPE=text/html:Explore Google My Business\, a free tool for local businesses\, who want to connect with customers on Google Search &amp\; Maps. Get hands-on help creating or updating your listing and take advantage of a free website.
LOCATION:
UID:e.2018.1115
SEQUENCE:3
DTSTAMP:20260420T080351Z
URL:https://members.westmihcc.org/events/details/get-found-on-google-search-maps-reach-customers-online-with-google-muskegon-1115
END:VEVENT

END:VCALENDAR
