BEGIN:VCALENDAR
VERSION:2.0
PRODID:-//ChamberMaster//Event Calendar 2.0//EN
METHOD:PUBLISH
X-PUBLISHED-TTL:P3D
REFRESH-INTERVAL:P3D
CALSCALE:GREGORIAN
BEGIN:VEVENT
DTSTART:20171025T130000Z
DTEND:20171025T160000Z
X-MICROSOFT-CDO-ALLDAYEVENT:FALSE
SUMMARY:Get Your Business Online
DESCRIPTION:Join Google for a workshop to help customers find your business. You'll update your business info on Google Search and Maps\, learn about website best practices\, and more.
X-ALT-DESC;FMTTYPE=text/html:Join Google for a workshop to help customers find your business. You&#39\;ll update your business info on Google Search and Maps\, learn about website best practices\, and more.
LOCATION:The Goei Center 818 Butterworth St. SW Grand Rapids\, MI 49504
UID:e.2018.687
SEQUENCE:3
DTSTAMP:20260423T050723Z
URL:https://members.westmihcc.org/events/details/get-your-business-online-687
END:VEVENT

END:VCALENDAR
