BEGIN:VCALENDAR
VERSION:2.0
PRODID:-//ChamberMaster//Event Calendar 2.0//EN
METHOD:PUBLISH
X-PUBLISHED-TTL:P3D
REFRESH-INTERVAL:P3D
CALSCALE:GREGORIAN
BEGIN:VEVENT
DTSTART:20161027T150000Z
DTEND:20161027T163000Z
X-MICROSOFT-CDO-ALLDAYEVENT:FALSE
SUMMARY:Get Your Business Online (Hybrid)
DESCRIPTION:Did you know research shows that 97% of consumers search the web to find local goods and services\, but only 37% of businesses have claimed a local business listing on a search engine? As an official Google GYBO Partner\, this webinar hosted by the Michigan SBDC will help you get started with free tools from Google\, and topics include:   Getting your business listed and verified on Google Search and Maps   Using "Google My Business" to manage your online presence   Reaching your target markets electronically   Securing a domain name and building a free website for your business This webinar is intended for businesses who want to learn the initial steps of getting their business presence online\, and is a great precursor to our "Grow Your Business Online" webinar series. No cost! Presented by SBDC West Michigan and Montcalm Community College. To register\, go online at https://clients.sbdcmichigan.org/workshop.aspx?ekey=44360008 or call SBDC West Michigan at (616)331-7370.
X-ALT-DESC;FMTTYPE=text/html:Did you know research shows that 97% of consumers search the web to find local goods and services\, but only 37% of businesses have claimed a local business listing on a search engine? As an official Google GYBO Partner\, this webinar hosted by the Michigan SBDC will help you get started with free tools from Google\, and topics include: &bull\; Getting your business listed and verified on Google Search and Maps &bull\; Using &quot\;Google My Business&quot\; to manage your online presence &bull\; Reaching your target markets electronically &bull\; Securing a domain name and building a free website for your business This webinar is intended for businesses who want to learn the initial steps of getting their business presence online\, and is a great precursor to our &quot\;Grow Your Business Online&quot\; webinar series. No cost! Presented by SBDC West Michigan and Montcalm Community College. To register\, go online at https://clients.sbdcmichigan.org/workshop.aspx?ekey=44360008 or call SBDC West Michigan at (616)331-7370.
LOCATION:Montcalm Community College\, Stanley and Blanche Ash Technology and Learning Center\, 1325 Yellow Jacket Drive Greenville\, MI 48838
UID:e.2018.443
SEQUENCE:3
DTSTAMP:20260425T213050Z
URL:https://members.westmihcc.org/events/details/get-your-business-online-hybrid-10-27-2016-443
END:VEVENT

END:VCALENDAR
