BEGIN:VCALENDAR
VERSION:2.0
PRODID:-//ChamberMaster//Event Calendar 2.0//EN
METHOD:PUBLISH
X-PUBLISHED-TTL:P3D
REFRESH-INTERVAL:P3D
CALSCALE:GREGORIAN
BEGIN:VEVENT
DTSTART:20191014T233000Z
DTEND:20191015T030000Z
X-MICROSOFT-CDO-ALLDAYEVENT:FALSE
SUMMARY:Ghost – Ultimate Tour Named Death
DESCRIPTION:FPC/NS2 Presents: GHOST Ultimate Tour Named Death Monday\, October 14\, 2019 Ultimate Tour Named Death wsg. Nothing More Monday\, October 14\, 2019 Doors 6:30PM Show 7:30PM
X-ALT-DESC;FMTTYPE=text/html:FPC/NS2 Presents: GHOST Ultimate Tour Named Death Monday\, October 14\, 2019 Ultimate Tour Named Death wsg. Nothing More Monday\, October 14\, 2019 Doors 6:30PM Show 7:30PM
LOCATION:The DeltaPlex Arena
UID:e.2018.1200
SEQUENCE:3
DTSTAMP:20260419T200722Z
URL:https://members.westmihcc.org/events/details/ghost-ultimate-tour-named-death-1200
END:VEVENT

END:VCALENDAR
