BEGIN:VCALENDAR
VERSION:2.0
PRODID:-//ChamberMaster//Event Calendar 2.0//EN
METHOD:PUBLISH
X-PUBLISHED-TTL:P3D
REFRESH-INTERVAL:P3D
CALSCALE:GREGORIAN
BEGIN:VEVENT
DTSTART:20190530T233000Z
DTEND:20190531T020000Z
X-MICROSOFT-CDO-ALLDAYEVENT:FALSE
SUMMARY:Glenn Miller Orchestra
DESCRIPTION:The legendary Glenn Miller Orchestra from New York will perform one night only\, bringing timeless classics like In The Mood\, Moonlight Serenade\, Chattanooga Choo Choo\, Pennsylvania 6-5000\, String of Pearls and Tuxedo Junction back to the stage on Thursday\, May 30th\, 2019 at 7:30PM at DeVos Performance Hall. On a memorable evening\, 18 musicians and singers will bring the unforgettable Glenn Miller sound to the DeVos Performance Hall\, performing timeless songs that everyone remembers. This is a must-see show for jazz and swing fans alike or the incurable romantics who want to step back in time. The legendary Glenn Miller was the most successful of all the dance bandleaders back in the Swing ear of the 1930's and 1940's. Producer Didier Morissonneau is proud to bring the most famous orchestra of all time to the Michigan music scene\, to perform their classic two-hour greatest hits show\, directed by the young and dynamic Nick Hilsher!
X-ALT-DESC;FMTTYPE=text/html:The legendary Glenn Miller Orchestra from New York will perform one night only\, bringing timeless classics like In The Mood\, Moonlight Serenade\, Chattanooga Choo Choo\, Pennsylvania 6-5000\, String of Pearls and Tuxedo Junction back to the stage on Thursday\, May 30th\, 2019 at 7:30PM at DeVos Performance Hall. On a memorable evening\, 18 musicians and singers will bring the unforgettable Glenn Miller sound to the DeVos Performance Hall\, performing timeless songs that everyone remembers. This is a must-see show for jazz and swing fans alike or the incurable romantics who want to step back in time. The legendary Glenn Miller was the most successful of all the dance bandleaders back in the Swing ear of the 1930&#39\;s and 1940&#39\;s. Producer Didier Morissonneau is proud to bring the most famous orchestra of all time to the Michigan music scene\, to perform their classic two-hour greatest hits show\, directed by the young and dynamic Nick Hilsher!
LOCATION:DeVos Performance Hall
UID:e.2018.1005
SEQUENCE:3
DTSTAMP:20260420T032631Z
URL:https://members.westmihcc.org/events/details/glenn-miller-orchestra-1005
END:VEVENT

END:VCALENDAR
