BEGIN:VCALENDAR
VERSION:2.0
PRODID:-//ChamberMaster//Event Calendar 2.0//EN
METHOD:PUBLISH
X-PUBLISHED-TTL:P3D
REFRESH-INTERVAL:P3D
CALSCALE:GREGORIAN
BEGIN:VEVENT
DTSTART:20190419T230000Z
DTEND:20190420T020000Z
X-MICROSOFT-CDO-ALLDAYEVENT:FALSE
SUMMARY:Godsmack featuring Volbeat
DESCRIPTION:Godsmack will return to the road in 2019 - with a headlining tour coming to Van Andel Arena on Friday\, April 19\, 2019 at 7:00 PM. Featuring Volbeat. Earlier this year\, Godsmack released When Legends Rise via BMG and Spinefarm\, marking the band's seventh studio album and their first in four years. The acclaimed 11-song collection\, fueled by the Top 5 rock song and video "Bulletproof" plus the video track "When Legends Rise\," entered the Billboard Top 200 album chart in the top ten (#8)\, with four #1 placements on other charts: Top Rock Albums\, Top Hard Music Albums\, Top Independent Albums and Top Alternative Albums. When Legends Rise is available on CD\, LP and Digital\; purchase or stream it here.
X-ALT-DESC;FMTTYPE=text/html:Godsmack will return to the road in 2019 - with a headlining tour coming to Van Andel Arena on Friday\, April 19\, 2019 at 7:00 PM. Featuring Volbeat. Earlier this year\, Godsmack released When Legends Rise via BMG and Spinefarm\, marking the band&#39\;s seventh studio album and their first in four years. The acclaimed 11-song collection\, fueled by the Top 5 rock song and video &quot\;Bulletproof&quot\; plus the video track &quot\;When Legends Rise\,&quot\; entered the Billboard Top 200 album chart in the top ten (#8)\, with four #1 placements on other charts: Top Rock Albums\, Top Hard Music Albums\, Top Independent Albums and Top Alternative Albums. When Legends Rise is available on CD\, LP and Digital\; purchase or stream it here.
LOCATION:Van Andel Arena
UID:e.2018.1010
SEQUENCE:3
DTSTAMP:20260420T045947Z
URL:https://members.westmihcc.org/events/details/godsmack-featuring-volbeat-1010
END:VEVENT

END:VCALENDAR
