BEGIN:VCALENDAR
VERSION:2.0
PRODID:-//ChamberMaster//Event Calendar 2.0//EN
METHOD:PUBLISH
X-PUBLISHED-TTL:P3D
REFRESH-INTERVAL:P3D
CALSCALE:GREGORIAN
BEGIN:VEVENT
DTSTART:20181017T160000Z
DTEND:20181017T170000Z
X-MICROSOFT-CDO-ALLDAYEVENT:FALSE
SUMMARY:Google: Drive a Holiday Rush for Your Business
DESCRIPTION:Kick start your customer's holiday shopping season by marketing your business! We'll discuss how to get in front of your customers and showcase what you offer using Google My Business\, Google Ads\, and more.
X-ALT-DESC;FMTTYPE=text/html:Kick start your customer&#39\;s holiday shopping season by marketing your business! We&#39\;ll discuss how to get in front of your customers and showcase what you offer using Google My Business\, Google Ads\, and more.
LOCATION:
UID:e.2018.946
SEQUENCE:3
DTSTAMP:20260422T122614Z
URL:https://members.westmihcc.org/events/details/google-drive-a-holiday-rush-for-your-business-946
END:VEVENT

END:VCALENDAR
