BEGIN:VCALENDAR
VERSION:2.0
PRODID:-//ChamberMaster//Event Calendar 2.0//EN
METHOD:PUBLISH
X-PUBLISHED-TTL:P3D
REFRESH-INTERVAL:P3D
CALSCALE:GREGORIAN
BEGIN:VEVENT
DTSTART:20191016T160000Z
DTEND:20191016T170000Z
X-MICROSOFT-CDO-ALLDAYEVENT:FALSE
SUMMARY:Google Holiday Livestream
DESCRIPTION:The holiday season is right around the corner -- are your local businesses ready to connect with customers during the busiest time of the year? Register today to host a viewing party for our annual holiday livestream. Tune in Wednesday\, October 16th\, as we partner up with Constant Contact to bring your local businesses expert tips to reach customers using free business listings\, online advertising\, and email marketing plans.
X-ALT-DESC;FMTTYPE=text/html:The holiday season is right around the corner -- are your local businesses ready to connect with customers during the busiest time of the year? Register today to host a viewing party for our annual holiday livestream. Tune in Wednesday\, October 16th\, as we partner up with Constant Contact to bring your local businesses expert tips to reach customers using free business listings\, online advertising\, and email marketing plans.
LOCATION:
UID:e.2018.1352
SEQUENCE:3
DTSTAMP:20260419T212558Z
URL:https://members.westmihcc.org/events/details/google-holiday-livestream-10-16-2019-1352
END:VEVENT

END:VCALENDAR
