BEGIN:VCALENDAR
VERSION:2.0
PRODID:-//ChamberMaster//Event Calendar 2.0//EN
METHOD:PUBLISH
X-PUBLISHED-TTL:P3D
REFRESH-INTERVAL:P3D
CALSCALE:GREGORIAN
BEGIN:VEVENT
DTSTART:20171101T160000Z
DTEND:20171101T180000Z
X-MICROSOFT-CDO-ALLDAYEVENT:FALSE
SUMMARY:Google Holiday Livestream
DESCRIPTION:Prerequisite: Intro to GROW Google is partnering with the Small Business Administration (SBA)\, Facebook\, Square\, and Constant Contact for a special Holiday live stream to show small businesses how to be found when this season's shoppers are searching online. You will need: A charged laptop or iPad
X-ALT-DESC;FMTTYPE=text/html:Prerequisite: Intro to GROW Google is partnering with the Small Business Administration (SBA)\, Facebook\, Square\, and Constant Contact for a special Holiday live stream to show small businesses how to be found when this season&#39\;s shoppers are searching online. You will need: A charged laptop or iPad
LOCATION:GROW
UID:e.2018.696
SEQUENCE:3
DTSTAMP:20260423T051330Z
URL:https://members.westmihcc.org/events/details/google-holiday-livestream-696
END:VEVENT

END:VCALENDAR
