BEGIN:VCALENDAR
VERSION:2.0
PRODID:-//ChamberMaster//Event Calendar 2.0//EN
METHOD:PUBLISH
X-PUBLISHED-TTL:P3D
REFRESH-INTERVAL:P3D
CALSCALE:GREGORIAN
BEGIN:VEVENT
DTSTART:20180725T160000Z
DTEND:20180725T180000Z
X-MICROSOFT-CDO-ALLDAYEVENT:FALSE
SUMMARY:Google Holiday Livestream Part 1
DESCRIPTION:Join Google partners to start early in preparing your business for the holiday season! During this livestream\, learn to boost your online presence\, reach more customers and gear up for a successful holiday season from experts at Google\, Constant Contact\, and LinkedIn. Enjoy this live stream from the wifi accessible location of your choice. We will send you a link to the livestream before the workshop\, so pay attention to your emails
X-ALT-DESC;FMTTYPE=text/html:Join Google partners to start early in preparing your business for the holiday season! During this livestream\, learn to boost your online presence\, reach more customers and gear up for a successful holiday season from experts at Google\, Constant Contact\, and LinkedIn. Enjoy this live stream from the wifi accessible location of your choice. We will send you a link to the livestream before the workshop\, so pay attention to your emails
LOCATION:
UID:e.2018.888
SEQUENCE:3
DTSTAMP:20260422T160037Z
URL:https://members.westmihcc.org/events/details/google-holiday-livestream-part-1-888
END:VEVENT

END:VCALENDAR
