BEGIN:VCALENDAR
VERSION:2.0
PRODID:-//ChamberMaster//Event Calendar 2.0//EN
METHOD:PUBLISH
X-PUBLISHED-TTL:P3D
REFRESH-INTERVAL:P3D
CALSCALE:GREGORIAN
BEGIN:VEVENT
DTSTART:20190306T170000Z
DTEND:20190306T180000Z
X-MICROSOFT-CDO-ALLDAYEVENT:FALSE
SUMMARY:Google Livestream: Give Your Website a Refresh
DESCRIPTION:Refresh your website as part of your spring cleaning to-do list. In this live stream workshop\, you'll learn about search engine optimization and best practices for creating a search-friendly site.
X-ALT-DESC;FMTTYPE=text/html:Refresh your website as part of your spring cleaning to-do list. In this live stream workshop\, you&#39\;ll learn about search engine optimization and best practices for creating a search-friendly site.
LOCATION:
UID:e.2018.1121
SEQUENCE:3
DTSTAMP:20260420T063217Z
URL:https://members.westmihcc.org/events/details/google-livestream-give-your-website-a-refresh-1121
END:VEVENT

END:VCALENDAR
