BEGIN:VCALENDAR
VERSION:2.0
PRODID:-//ChamberMaster//Event Calendar 2.0//EN
METHOD:PUBLISH
X-PUBLISHED-TTL:P3D
REFRESH-INTERVAL:P3D
CALSCALE:GREGORIAN
BEGIN:VEVENT
DTSTART:20190717T160000Z
DTEND:20190717T170000Z
X-MICROSOFT-CDO-ALLDAYEVENT:FALSE
SUMMARY:Google Livestream: Small Business Summer School
DESCRIPTION:Enjoy this live stream from the WiFi accessible location of your choice. We will send you a link to the live stream before the workshop\, so pay attention to your emails. You must register to receive the link.
X-ALT-DESC;FMTTYPE=text/html:Enjoy this live stream from the WiFi accessible location of your choice. We will send you a link to the live stream before the workshop\, so pay attention to your emails. You must register to receive the link.
LOCATION:Online
UID:e.2018.1255
SEQUENCE:3
DTSTAMP:20260420T003916Z
URL:https://members.westmihcc.org/events/details/google-livestream-small-business-summer-school-1255
END:VEVENT

END:VCALENDAR
