BEGIN:VCALENDAR
VERSION:2.0
PRODID:-//ChamberMaster//Event Calendar 2.0//EN
METHOD:PUBLISH
X-PUBLISHED-TTL:P3D
REFRESH-INTERVAL:P3D
CALSCALE:GREGORIAN
BEGIN:VEVENT
DTSTART:20190911T160000Z
DTEND:20190911T180000Z
X-MICROSOFT-CDO-ALLDAYEVENT:FALSE
SUMMARY:Google: Sharing Your Story Through Video
DESCRIPTION:Learn about the power of video and how you can use video content to promote your business\, improve marketing efforts\, and build a loyal audience. YouTube is the world's largest video network and the second-largest search engine behind Google. Every day\, businesses are creating YouTube channels and videos to reach interested customers. Today's consumers watch video content whenever and wherever they want. This creates an opportunity for businesses to reimagine the role of video in their marketing strategy. This workshop offers best practices for connecting with consumers through online video.
X-ALT-DESC;FMTTYPE=text/html:Learn about the power of video and how you can use video content to promote your business\, improve marketing efforts\, and build a loyal audience. YouTube is the world&#39\;s largest video network and the second-largest search engine behind Google. Every day\, businesses are creating YouTube channels and videos to reach interested customers. Today&#39\;s consumers watch video content whenever and wherever they want. This creates an opportunity for businesses to reimagine the role of video in their marketing strategy. This workshop offers best practices for connecting with consumers through online video.
LOCATION:
UID:e.2018.1303
SEQUENCE:3
DTSTAMP:20260419T212507Z
URL:https://members.westmihcc.org/events/details/google-sharing-your-story-through-video-09-11-2019-1303
END:VEVENT

END:VCALENDAR
