BEGIN:VCALENDAR
VERSION:2.0
PRODID:-//ChamberMaster//Event Calendar 2.0//EN
METHOD:PUBLISH
X-PUBLISHED-TTL:P3D
REFRESH-INTERVAL:P3D
CALSCALE:GREGORIAN
BEGIN:VEVENT
DTSTART:20180912T130000Z
DTEND:20180912T150000Z
X-MICROSOFT-CDO-ALLDAYEVENT:FALSE
SUMMARY:Google: Sharing Your Story Through Video
DESCRIPTION:Learn about the power of video and how you can use video content to promote your business\, improve marketing efforts\, and build a loyal audience. YouTube is the world's largest video network and the second-largest search engine behind Google. Every day\, businesses are creating YouTube channels and videos to reach interested customers.
X-ALT-DESC;FMTTYPE=text/html:Learn about the power of video and how you can use video content to promote your business\, improve marketing efforts\, and build a loyal audience. YouTube is the world&#39\;s largest video network and the second-largest search engine behind Google. Every day\, businesses are creating YouTube channels and videos to reach interested customers.
LOCATION:
UID:e.2018.921
SEQUENCE:3
DTSTAMP:20260422T132855Z
URL:https://members.westmihcc.org/events/details/google-sharing-your-story-through-video-921
END:VEVENT

END:VCALENDAR
