BEGIN:VCALENDAR
VERSION:2.0
PRODID:-//ChamberMaster//Event Calendar 2.0//EN
METHOD:PUBLISH
X-PUBLISHED-TTL:P3D
REFRESH-INTERVAL:P3D
CALSCALE:GREGORIAN
BEGIN:VEVENT
DTSTART:20190313T160000Z
DTEND:20190313T180000Z
X-MICROSOFT-CDO-ALLDAYEVENT:FALSE
SUMMARY:Google Workshop - Make Your Website Work for You
DESCRIPTION:If you're launching a new business website (or sprucing up an old site)\, this workshop will help you. Learn how to create a search-friendly site that's useful for customers and supports your business goals.
X-ALT-DESC;FMTTYPE=text/html:If you&#39\;re launching a new business website (or sprucing up an old site)\, this workshop will help you. Learn how to create a search-friendly site that&#39\;s useful for customers and supports your business goals.
LOCATION:
UID:e.2018.1124
SEQUENCE:3
DTSTAMP:20260420T062417Z
URL:https://members.westmihcc.org/events/details/google-workshop-make-your-website-work-for-you-1124
END:VEVENT

END:VCALENDAR
