BEGIN:VCALENDAR
VERSION:2.0
PRODID:-//ChamberMaster//Event Calendar 2.0//EN
METHOD:PUBLISH
X-PUBLISHED-TTL:P3D
REFRESH-INTERVAL:P3D
CALSCALE:GREGORIAN
BEGIN:VEVENT
DTSTART:20190508T160000Z
DTEND:20190508T180000Z
X-MICROSOFT-CDO-ALLDAYEVENT:FALSE
SUMMARY:Google Workshop - Succeed in a Micro Moments World and Tips for Measuring Online Success
DESCRIPTION:Connect with customers on mobile devices and make sure your business is there from the moment they find you online to the moment where they click\, call\, or buy. Connect with customers in the critical moments when they search online for something they want to know\, someplace they want to go\, something they want to do\, or something they want to buy.
X-ALT-DESC;FMTTYPE=text/html:Connect with customers on mobile devices and make sure your business is there from the moment they find you online to the moment where they click\, call\, or buy. Connect with customers in the critical moments when they search online for something they want to know\, someplace they want to go\, something they want to do\, or something they want to buy.
LOCATION:GROW
UID:e.2018.1177
SEQUENCE:3
DTSTAMP:20260420T033201Z
URL:https://members.westmihcc.org/events/details/google-workshop-succeed-in-a-micro-moments-world-and-tips-for-measuring-online-success-1177
END:VEVENT

END:VCALENDAR
