BEGIN:VCALENDAR
VERSION:2.0
PRODID:-//ChamberMaster//Event Calendar 2.0//EN
METHOD:PUBLISH
X-PUBLISHED-TTL:P3D
REFRESH-INTERVAL:P3D
CALSCALE:GREGORIAN
BEGIN:VEVENT
DTSTART:20161003T233000Z
DTEND:20161003T160000Z
X-MICROSOFT-CDO-ALLDAYEVENT:FALSE
SUMMARY:Grammy Award Winning Singer-Songwriter Jason Isbell Coming to Grand Rapids
DESCRIPTION:Acclaimed\, award-winning artist Jason Isbell has announced additional tour dates\, including a show in Grand Rapids on Monday\, October 3\, 2016 at 7:30 PM in DeVos Performance Hall. The shows are in support of the recent release of Something More Than Free\, his highly anticipated fifth album (Southeastern Records)\, for which Isbell recently won the Grammy Award for ?Best Americana Album.? Isbell also won the Grammy for ?Best Americana/Roots Song? for ?24 Frames\,? the first single from the album. Isbell will be touring with his band The 400 Unit\, featuring Derry Deborja (Keys)\, Chad Gamble (drums)\, Jimbo Hart (bass) and Sadler Vaden (guitar). Special guest Josh Ritter will open the show.
X-ALT-DESC;FMTTYPE=text/html:Acclaimed\, award-winning artist Jason Isbell has announced additional tour dates\, including a show in Grand Rapids on Monday\, October 3\, 2016 at 7:30 PM in DeVos Performance Hall. The shows are in support of the recent release of Something More Than Free\, his highly anticipated fifth album (Southeastern Records)\, for which Isbell recently won the Grammy Award for ?Best Americana Album.? Isbell also won the Grammy for ?Best Americana/Roots Song? for ?24 Frames\,? the first single from the album. Isbell will be touring with his band The 400 Unit\, featuring Derry Deborja (Keys)\, Chad Gamble (drums)\, Jimbo Hart (bass) and Sadler Vaden (guitar). Special guest Josh Ritter will open the show.
LOCATION:DeVos Performance Hall
UID:e.2018.384
SEQUENCE:3
DTSTAMP:20260425T213402Z
URL:https://members.westmihcc.org/events/details/grammy-award-winning-singer-songwriter-jason-isbell-coming-to-grand-rapids-10-03-2016-384
END:VEVENT

END:VCALENDAR
