BEGIN:VCALENDAR
VERSION:2.0
PRODID:-//ChamberMaster//Event Calendar 2.0//EN
METHOD:PUBLISH
X-PUBLISHED-TTL:P3D
REFRESH-INTERVAL:P3D
CALSCALE:GREGORIAN
BEGIN:VEVENT
DTSTART:20190409T153000Z
DTEND:20190409T170000Z
X-MICROSOFT-CDO-ALLDAYEVENT:FALSE
SUMMARY:Grand Rapids Entrepreneur Panel
DESCRIPTION:What's it like starting a business and how do you market it? Whether you've already begun or are toying with the idea of building your own\, this panel discussion will be your chance to ask questions\, get answers\, hear ideas\, and spark innovation. When attending\, you'll get validation that you're not alone in your struggles\, because growing pains are not uncommon. We've gathered four local entrepreneurs for a panel discussion. Each entrepreneur has one or more businesses in the marketing space - between creative services\, promotional products and/or displays\, and strategy and management services.
X-ALT-DESC;FMTTYPE=text/html:What&#39\;s it like starting a business and how do you market it? Whether you&#39\;ve already begun or are toying with the idea of building your own\, this panel discussion will be your chance to ask questions\, get answers\, hear ideas\, and spark innovation. When attending\, you&#39\;ll get validation that you&#39\;re not alone in your struggles\, because growing pains are not uncommon. We&rsquo\;ve gathered four local entrepreneurs for a panel discussion. Each entrepreneur has one or more businesses in the marketing space - between creative services\, promotional products and/or displays\, and strategy and management services.
LOCATION:GVSU - Seidman Center 50 Front Ave SW Grand Rapids\, MI 49504
UID:e.2018.1156
SEQUENCE:3
DTSTAMP:20260420T045924Z
URL:https://members.westmihcc.org/events/details/grand-rapids-entrepreneur-panel-1156
END:VEVENT

END:VCALENDAR
