BEGIN:VCALENDAR
VERSION:2.0
PRODID:-//ChamberMaster//Event Calendar 2.0//EN
METHOD:PUBLISH
X-PUBLISHED-TTL:P3D
REFRESH-INTERVAL:P3D
CALSCALE:GREGORIAN
BEGIN:VEVENT
DTSTART:20190213T150000Z
DTEND:20190213T183000Z
X-MICROSOFT-CDO-ALLDAYEVENT:FALSE
SUMMARY:Grand Rapids Go Red For Women Luncheon
DESCRIPTION:Fifteen years ago\, Go Red For Women was born as a campaign to raise awareness among women about their great health threat   heart disease. The Go Red for Women Luncheon continues to serve as the cornerstone event of the Go Red For Women movement in West Michigan. This empowering event focuses on preventing heart disease and stroke by promoting healthy lifestyles\, building awareness and raising critically-needed funds to support research and education initiatives. Cardiovascular diseases\, which include stroke\, claim the life of a woman about every 80 seconds. We hope you will join us on our mission because about 80 percent of cardiovascular diseases may be prevented. This event is sponsored nationally by Macy's and CVS Health. Locally sponsored by Blue Cross Blue Shield\, Huntington\, Mercy Health\, SKLD\, Spectrum Health. Media sponsors include WOTV4 Women\, Women's Lifestyle Magazine\, The River 100.5\, Mix 95.7 and 98.7 WFGR Grand Rapids Greatest Hits. Our chair is Mandee Rick\, Huntington Bank Executive Leadership Team Julie Brinks Melissa Eilar Dr. Laura Franey Janelle Haggadone Karen Karatkiewicz Cynthia McCurren Liz Murphy Kellie Norton Amber Robke 10:00AM - Check-In Opens 10:30AM to 11:45AM - Networking\, the Purse-inalities Silent Auction & Engagement Areas 12:00PM to 1:30PM - Luncheon & Program #GoRedGrandRapids
X-ALT-DESC;FMTTYPE=text/html:Fifteen years ago\, Go Red For Women was born as a campaign to raise awareness among women about their great health threat &ndash\; heart disease. The Go Red for Women Luncheon continues to serve as the cornerstone event of the Go Red For Women movement in West Michigan. This empowering event focuses on preventing heart disease and stroke by promoting healthy lifestyles\, building awareness and raising critically-needed funds to support research and education initiatives. Cardiovascular diseases\, which include stroke\, claim the life of a woman about every 80 seconds. We hope you will join us on our mission because about 80 percent of cardiovascular diseases may be prevented. This event is sponsored nationally by Macy&#39\;s and CVS Health. Locally sponsored by Blue Cross Blue Shield\, Huntington\, Mercy Health\, SKLD\, Spectrum Health. Media sponsors include WOTV4 Women\, Women&#39\;s Lifestyle Magazine\, The River 100.5\, Mix 95.7 and 98.7 WFGR Grand Rapids Greatest Hits. Our chair is Mandee Rick\, Huntington Bank Executive Leadership Team Julie Brinks Melissa Eilar Dr. Laura Franey Janelle Haggadone Karen Karatkiewicz Cynthia McCurren Liz Murphy Kellie Norton Amber Robke 10:00AM - Check-In Opens 10:30AM to 11:45AM - Networking\, the Purse-inalities Silent Auction &amp\; Engagement Areas 12:00PM to 1:30PM - Luncheon &amp\; Program #GoRedGrandRapids
LOCATION:20 Monroe Live
UID:e.2018.1012
SEQUENCE:3
DTSTAMP:20260420T080212Z
URL:https://members.westmihcc.org/events/details/grand-rapids-go-red-for-women-luncheon-1012
END:VEVENT

END:VCALENDAR
