BEGIN:VCALENDAR
VERSION:2.0
PRODID:-//ChamberMaster//Event Calendar 2.0//EN
METHOD:PUBLISH
X-PUBLISHED-TTL:P3D
REFRESH-INTERVAL:P3D
CALSCALE:GREGORIAN
BEGIN:VEVENT
DTSTART:20170331T210000Z
DTEND:20170403T000000Z
X-MICROSOFT-CDO-ALLDAYEVENT:FALSE
SUMMARY:Grand Rapids Latin American Film Festival
DESCRIPTION:The Grand Rapids Latin American Film Festival (GRLAFF)\, which has been bringing films that represent diverse perspectives\, origins\, and themes to the Wealthy Theatre since 2010\, will be returning for its seventh season this spring. The festival is set to show nine award-winning films from Brazil\, Mexico\, Guatemala\, Argentina\, Peru\, Colombia\, Ecuador\, and Uruguay. Admission is free and the festival will feature discussions with directors and local speakers\, as well as Latin American-style refreshments.
X-ALT-DESC;FMTTYPE=text/html:The Grand Rapids Latin American Film Festival (GRLAFF)\, which has been bringing films that represent diverse perspectives\, origins\, and themes to the Wealthy Theatre since 2010\, will be returning for its seventh season this spring. The festival is set to show nine award-winning films from Brazil\, Mexico\, Guatemala\, Argentina\, Peru\, Colombia\, Ecuador\, and Uruguay. Admission is free and the festival will feature discussions with directors and local speakers\, as well as Latin American-style refreshments.
LOCATION:Wealthy Theatre\, 1130 Wealthy Street SE\, Grand Rapids\, MI 49506
UID:e.2018.561
SEQUENCE:3
DTSTAMP:20260425T133802Z
URL:https://members.westmihcc.org/events/details/grand-rapids-latin-american-film-festival-561
END:VEVENT

END:VCALENDAR
