BEGIN:VCALENDAR
VERSION:2.0
PRODID:-//ChamberMaster//Event Calendar 2.0//EN
METHOD:PUBLISH
X-PUBLISHED-TTL:P3D
REFRESH-INTERVAL:P3D
CALSCALE:GREGORIAN
BEGIN:VEVENT
DTSTART:20161022T230000Z
DTEND:20161023T020000Z
X-MICROSOFT-CDO-ALLDAYEVENT:FALSE
SUMMARY:Grand Rapids Symphony: DreamWorks Animation in Concert
DESCRIPTION:How To Train Your Dragon\, Shrek\, Kung Fu Panda and more! For over 20 years\, DreamWorks Animation's great stories and beloved characters have inspired and delighted audiences of all ages. Now\, join your Grand Rapids Pops as we present DreamWorks Animation in Concert! See visually stunning footage projected in HD onto the big screen while the iconic music scores by Hans Zimmer\, John Powell\, Danny Elfman\, Alexandre Desplat\, Alan Silvestri and others are performed live! Click HERE to purchase your tickets for this magical event! Tickets are available now at the DeVos Place  and Van Andel Arena  box offices\, all Ticketmaster outlets\, online at Ticketmaster.com\, and by phone at 1-800-982-2787.
X-ALT-DESC;FMTTYPE=text/html:How To Train Your Dragon\, Shrek\, Kung Fu Panda and more! For over 20 years\, DreamWorks Animation&rsquo\;s great stories and beloved characters have inspired and delighted audiences of all ages. Now\, join your Grand Rapids Pops as we present DreamWorks Animation in Concert! See visually stunning footage projected in HD onto the big screen while the iconic music scores by Hans Zimmer\, John Powell\, Danny Elfman\, Alexandre Desplat\, Alan Silvestri and others are performed live! Click HERE to purchase your tickets for this magical event! Tickets are available now at the DeVos Place&reg\; and Van Andel Arena&reg\; box offices\, all Ticketmaster outlets\, online at Ticketmaster.com\, and by phone at 1-800-982-2787.
LOCATION:DeVos Performance Hall
UID:e.2018.419
SEQUENCE:3
DTSTAMP:20260425T213213Z
URL:https://members.westmihcc.org/events/details/grand-rapids-symphony-dreamworks-animation-in-concert-10-22-2016-419
END:VEVENT

END:VCALENDAR
