BEGIN:VCALENDAR
VERSION:2.0
PRODID:-//ChamberMaster//Event Calendar 2.0//EN
METHOD:PUBLISH
X-PUBLISHED-TTL:P3D
REFRESH-INTERVAL:P3D
CALSCALE:GREGORIAN
BEGIN:VEVENT
DTSTART:20190922T140000Z
DTEND:20190922T200000Z
X-MICROSOFT-CDO-ALLDAYEVENT:FALSE
SUMMARY:Grand Rapids Veg Fest
DESCRIPTION:VegFest is an annual vegetarian food festival held in cities around the world to promote veganism and vegetarianism\, healthy lifestyles\, compassion for animals and conservation of the environment. Food Trucks/Cooking Demos/Live Speakers/Kids Activities/Vendors
X-ALT-DESC;FMTTYPE=text/html:VegFest is an annual vegetarian food festival held in cities around the world to promote veganism and vegetarianism\, healthy lifestyles\, compassion for animals and conservation of the environment. Food Trucks/Cooking Demos/Live Speakers/Kids Activities/Vendors
LOCATION:The DeltaPlex Arena and Conference Center
UID:e.2018.1330
SEQUENCE:3
DTSTAMP:20260419T213220Z
URL:https://members.westmihcc.org/events/details/grand-rapids-veg-fest-1330
END:VEVENT

END:VCALENDAR
