BEGIN:VCALENDAR
VERSION:2.0
PRODID:-//ChamberMaster//Event Calendar 2.0//EN
METHOD:PUBLISH
X-PUBLISHED-TTL:P3D
REFRESH-INTERVAL:P3D
CALSCALE:GREGORIAN
BEGIN:VEVENT
DTSTART:20180905T213000Z
DTEND:20180905T233000Z
X-MICROSOFT-CDO-ALLDAYEVENT:FALSE
SUMMARY:Grandioso: Celebrating the Partnership between the GR Symphony and the WMHCC
DESCRIPTION:Grandioso!\n\n\n\nTo celebrate the recent partnership of the West Michigan Hispanic Chamber of Commerce and the Grand Rapids Symphony\, we will be celebrating with our community and members of each respective organization! This open house style evening will celebrate our relationship with the GR Symphony\, music by GR Symphony musicians\, faire from local Hispanic restaurants\, and we will also unveil an exciting new initiative! Remarks will begin at 6:15 PM. We hope to see you there for appetizers\, drinks\, and networking as we take over the space below the Chamber's new office space in Burton Heights!\n\n\n\nWe are thrilled to be partnering with an organization that is continually trying to bring Hispanic music and culture to their concerts and performances. We hope you can join us!
X-ALT-DESC;FMTTYPE=text/html:<span style="color: rgb(29\, 33\, 41)\; font-family: &quot\;Helvetica Neue&quot\;\, Helvetica\, Arial\, sans-serif\; font-size: 14px\; background-color: rgb(255\, 255\, 255)\;">&iexcl\;Grandioso!</span><br style="color: rgb(29\, 33\, 41)\; font-family: &quot\;Helvetica Neue&quot\;\, Helvetica\, Arial\, sans-serif\; font-size: 14px\; background-color: rgb(255\, 255\, 255)\;" />\n<br style="color: rgb(29\, 33\, 41)\; font-family: &quot\;Helvetica Neue&quot\;\, Helvetica\, Arial\, sans-serif\; font-size: 14px\; background-color: rgb(255\, 255\, 255)\;" />\n<span style="color: rgb(29\, 33\, 41)\; font-family: &quot\;Helvetica Neue&quot\;\, Helvetica\, Arial\, sans-serif\; font-size: 14px\; background-color: rgb(255\, 255\, 255)\;">To celebrate the recent partnership of the West Michigan Hispanic Chamber of Commerce and the Grand Rapids Symphony\, we will be celebrating with our community and members of each respective organization! This open house style evening will celebrate our relationship with the GR Symphony\, music by GR Symphony musicians\, faire from local Hispanic restaurants\, and&hellip\;we will also unveil an exciting new initiative! Remarks will begin at 6:15 PM. We hope to see you there for appetizers\, drinks\, and networking as we take over the space below the Chamber&#39\;s new office space in Burton Heights!</span><br style="color: rgb(29\, 33\, 41)\; font-family: &quot\;Helvetica Neue&quot\;\, Helvetica\, Arial\, sans-serif\; font-size: 14px\; background-color: rgb(255\, 255\, 255)\;" />\n<br style="color: rgb(29\, 33\, 41)\; font-family: &quot\;Helvetica Neue&quot\;\, Helvetica\, Arial\, sans-serif\; font-size: 14px\; background-color: rgb(255\, 255\, 255)\;" />\n<span style="color: rgb(29\, 33\, 41)\; font-family: &quot\;Helvetica Neue&quot\;\, Helvetica\, Arial\, sans-serif\; font-size: 14px\; background-color: rgb(255\, 255\, 255)\;">We are thrilled to be partnering with an organization that is continually trying to bring Hispanic music and culture to their concerts and performances. We hope you can join us!</span>
LOCATION:WMHCC Office\, first floor 2007 S Division Ave.\, Grand Rapids\, MI 49507
UID:e.2018.915
SEQUENCE:3
DTSTAMP:20260422T134218Z
URL:https://members.westmihcc.org/events/details/grandioso-celebrating-the-partnership-between-the-gr-symphony-and-the-wmhcc-915
END:VEVENT

END:VCALENDAR
