BEGIN:VCALENDAR
VERSION:2.0
PRODID:-//ChamberMaster//Event Calendar 2.0//EN
METHOD:PUBLISH
X-PUBLISHED-TTL:P3D
REFRESH-INTERVAL:P3D
CALSCALE:GREGORIAN
BEGIN:VEVENT
DTSTART:20190926T190000Z
DTEND:20190926T210000Z
X-MICROSOFT-CDO-ALLDAYEVENT:FALSE
SUMMARY:GROW Connects: Building and Leading Effective Teams
DESCRIPTION:In order to maintain a competitive edge\, it is important to ensure you build and manage effective\, high performing teams. If done successfully\, your teams will show high levels of collaboration and innovation and outperform others. In this course\, leadership specialist\, Lisa Wilkes\, will teach you how to create and lead high performing teams. Learn about the seven elements of a high-performance team\, and the techniques necessary to set direction\, gather and deploy the right resources\, prioritize work\, motivate employees\, and help team members develop their individual strengths.
X-ALT-DESC;FMTTYPE=text/html:In order to maintain a competitive edge\, it is important to ensure you build and manage effective\, high performing teams. If done successfully\, your teams will show high levels of collaboration and innovation and outperform others. In this course\, leadership specialist\, Lisa Wilkes\, will teach you how to create and lead high performing teams. Learn about the seven elements of a high-performance team\, and the techniques necessary to set direction\, gather and deploy the right resources\, prioritize work\, motivate employees\, and help team members develop their individual strengths.
LOCATION:
UID:e.2018.1310
SEQUENCE:3
DTSTAMP:20260419T212558Z
URL:https://members.westmihcc.org/events/details/grow-connects-building-and-leading-effective-teams-1310
END:VEVENT

END:VCALENDAR
