BEGIN:VCALENDAR
VERSION:2.0
PRODID:-//ChamberMaster//Event Calendar 2.0//EN
METHOD:PUBLISH
X-PUBLISHED-TTL:P3D
REFRESH-INTERVAL:P3D
CALSCALE:GREGORIAN
BEGIN:VEVENT
DTSTART:20180628T190000Z
DTEND:20180628T210000Z
X-MICROSOFT-CDO-ALLDAYEVENT:FALSE
SUMMARY:GROW Connects: Doing Business Online\, What are the Legal Implications
DESCRIPTION:When starting or growing your business online you want to make sure you know the legal (issues) that may affect your business.
X-ALT-DESC;FMTTYPE=text/html:When starting or growing your business online you want to make sure you know the legal (issues) that may affect your business.
LOCATION:
UID:e.2018.849
SEQUENCE:3
DTSTAMP:20260422T172344Z
URL:https://members.westmihcc.org/events/details/grow-connects-doing-business-online-what-are-the-legal-implications-849
END:VEVENT

END:VCALENDAR
