BEGIN:VCALENDAR
VERSION:2.0
PRODID:-//ChamberMaster//Event Calendar 2.0//EN
METHOD:PUBLISH
X-PUBLISHED-TTL:P3D
REFRESH-INTERVAL:P3D
CALSCALE:GREGORIAN
BEGIN:VEVENT
DTSTART:20190523T130000Z
DTEND:20190523T150000Z
X-MICROSOFT-CDO-ALLDAYEVENT:FALSE
SUMMARY:GROW Connects: How to Create a Marketing Plan that Works for Your Business
DESCRIPTION:Did you know that over half of all businesses don't have a formal marketing plan? That's because no one wants to invest time or money in a plan only to have it sit on the shelf and collect dust. Unfortunately\, without a plan\, there's little chance of knowing if your marketing is actually working. Attend this hands-on workshop and learn a process that has grown hundreds of brands.
X-ALT-DESC;FMTTYPE=text/html:Did you know that over half of all businesses don&#39\;t have a formal marketing plan? That&#39\;s because no one wants to invest time or money in a plan only to have it sit on the shelf and collect dust. Unfortunately\, without a plan\, there&#39\;s little chance of knowing if your marketing is actually working. Attend this hands-on workshop and learn a process that has grown hundreds of brands.
LOCATION:
UID:e.2018.1186
SEQUENCE:3
DTSTAMP:20260420T033408Z
URL:https://members.westmihcc.org/events/details/grow-connects-how-to-create-a-marketing-plan-that-works-for-your-business-1186
END:VEVENT

END:VCALENDAR
