BEGIN:VCALENDAR
VERSION:2.0
PRODID:-//ChamberMaster//Event Calendar 2.0//EN
METHOD:PUBLISH
X-PUBLISHED-TTL:P3D
REFRESH-INTERVAL:P3D
CALSCALE:GREGORIAN
BEGIN:VEVENT
DTSTART:20180927T160000Z
DTEND:20180927T180000Z
X-MICROSOFT-CDO-ALLDAYEVENT:FALSE
SUMMARY:GROW Connects:How to do Business with GRCC & the Public Sector
DESCRIPTION:GRCC Administrator Mansfield Mattherson will provide a session on How to do Business with GRCC\, which will also cover the unique nuances of doing business with the public sector. Afterward\, a forum for open discussion and Q & A will also take place.
X-ALT-DESC;FMTTYPE=text/html:GRCC Administrator Mansfield Mattherson will provide a session on How to do Business with GRCC\, which will also cover the unique nuances of doing business with the public sector. Afterward\, a forum for open discussion and Q &amp\; A will also take place.
LOCATION:
UID:e.2018.926
SEQUENCE:3
DTSTAMP:20260422T134216Z
URL:https://members.westmihcc.org/events/details/grow-connects-how-to-do-business-with-grcc-the-public-sector-926
END:VEVENT

END:VCALENDAR
