BEGIN:VCALENDAR
VERSION:2.0
PRODID:-//ChamberMaster//Event Calendar 2.0//EN
METHOD:PUBLISH
X-PUBLISHED-TTL:P3D
REFRESH-INTERVAL:P3D
CALSCALE:GREGORIAN
BEGIN:VEVENT
DTSTART:20170525T133000Z
DTEND:20170525T150000Z
X-MICROSOFT-CDO-ALLDAYEVENT:FALSE
SUMMARY:GROW Connects: How to Pitch Your Business
DESCRIPTION:Join us for a workshop geared to help perfect business elevator speech. Learn tips on how to pitch your business from facilitator Chelsie Wyse\, Principal/Creative Director of Pretty Little Bow. Pretty Little Bow is a full-service creative studio that specializes in brand development\, video/short films\, and visual identity.
X-ALT-DESC;FMTTYPE=text/html:Join us for a workshop geared to help perfect business elevator speech. Learn tips on how to pitch your business from facilitator Chelsie Wyse\, Principal/Creative Director of Pretty Little Bow. Pretty Little Bow is a full-service creative studio that specializes in brand development\, video/short films\, and visual identity.
LOCATION:
UID:e.2018.588
SEQUENCE:3
DTSTAMP:20260425T120728Z
URL:https://members.westmihcc.org/events/details/grow-connects-how-to-pitch-your-business-588
END:VEVENT

END:VCALENDAR
