BEGIN:VCALENDAR
VERSION:2.0
PRODID:-//ChamberMaster//Event Calendar 2.0//EN
METHOD:PUBLISH
X-PUBLISHED-TTL:P3D
REFRESH-INTERVAL:P3D
CALSCALE:GREGORIAN
BEGIN:VEVENT
DTSTART:20180716T170000Z
DTEND:20180716T190000Z
X-MICROSOFT-CDO-ALLDAYEVENT:FALSE
SUMMARY:GROW Connects: How to use Canva for Your Design Work
DESCRIPTION:What is Canva? Canva is a free graphic design tool website. Canva provides a simple\, new way to design beautiful and professional graphics allowing you to take your vision or message and translate it into a design. This workshop is designed for businesses that need to explore how to create and design their social media content. You will be guided through an in-depth tour of the user interface and learn all of Canva's features and functionality to enhance your design skills and get your content noticed.
X-ALT-DESC;FMTTYPE=text/html:What is Canva? Canva is a free graphic design tool website. Canva provides a simple\, new way to design beautiful and professional graphics allowing you to take your vision or message and translate it into a design. This workshop is designed for businesses that need to explore how to create and design their social media content. You will be guided through an in-depth tour of the user interface and learn all of Canva&#39\;s features and functionality to enhance your design skills and get your content noticed.
LOCATION:
UID:e.2018.887
SEQUENCE:3
DTSTAMP:20260422T160104Z
URL:https://members.westmihcc.org/events/details/grow-connects-how-to-use-canva-for-your-design-work-887
END:VEVENT

END:VCALENDAR
